Package: Pirat Version: 1.4.2 Command: /home/biocbuild/bbs-3.22-bioc/R/bin/R CMD build --keep-empty-dirs --no-resave-data --md5 Pirat StartedAt: 2025-11-14 19:24:31 -0500 (Fri, 14 Nov 2025) EndedAt: 2025-11-14 20:04:31 -0500 (Fri, 14 Nov 2025) EllapsedTime: 2400.2 seconds RetCode: None Status: TIMEOUT PackageFile: None PackageFileSize: NA