Package: Pigengene Version: 1.36.0 Command: /Library/Frameworks/R.framework/Resources/bin/R CMD INSTALL Pigengene StartedAt: 2025-11-03 15:46:20 -0500 (Mon, 03 Nov 2025) EndedAt: 2025-11-03 15:47:00 -0500 (Mon, 03 Nov 2025) EllapsedTime: 40.3 seconds RetCode: 0 Status: OK