Package: Pigengene Version: 1.34.0 Command: /home/biocbuild/R/R/bin/R CMD build --keep-empty-dirs --no-resave-data Pigengene StartedAt: 2025-10-14 03:32:36 -0000 (Tue, 14 Oct 2025) EndedAt: 2025-10-14 03:43:51 -0000 (Tue, 14 Oct 2025) EllapsedTime: 675.2 seconds RetCode: 0 Status: OK PackageFile: Pigengene_1.34.0.tar.gz PackageFileSize: 2.687 MiB