Package: PhyloProfile Version: 2.2.1 Command: /home/biocbuild/bbs-3.22-bioc/R/bin/R CMD INSTALL PhyloProfile StartedAt: 2025-11-11 15:19:39 -0500 (Tue, 11 Nov 2025) EndedAt: 2025-11-11 15:20:01 -0500 (Tue, 11 Nov 2025) EllapsedTime: 21.6 seconds RetCode: 0 Status: OK