Package: PhyloProfile Version: 2.2.1 Command: /Library/Frameworks/R.framework/Resources/bin/R CMD INSTALL PhyloProfile StartedAt: 2025-11-06 15:08:17 -0500 (Thu, 06 Nov 2025) EndedAt: 2025-11-06 15:08:25 -0500 (Thu, 06 Nov 2025) EllapsedTime: 8.5 seconds RetCode: 0 Status: OK