Package: PhyloProfile Version: 2.2.1 Command: /Library/Frameworks/R.framework/Resources/bin/R CMD build --keep-empty-dirs --no-resave-data PhyloProfile StartedAt: 2025-11-06 17:20:36 -0500 (Thu, 06 Nov 2025) EndedAt: 2025-11-06 17:20:52 -0500 (Thu, 06 Nov 2025) EllapsedTime: 16.2 seconds RetCode: 0 Status: OK PackageFile: PhyloProfile_2.2.1.tar.gz PackageFileSize: 1.431 MiB