Package: PhyloProfile Version: 2.2.1 Command: rm -rf PhyloProfile.buildbin-libdir && mkdir PhyloProfile.buildbin-libdir && /Users/biocbuild/BBS/utils/build-universal.sh PhyloProfile_2.2.1.tar.gz /Library/Frameworks/R.framework/Resources/bin/R PhyloProfile.buildbin-libdir StartedAt: 2025-11-06 23:16:08 -0500 (Thu, 06 Nov 2025) EndedAt: 2025-11-06 23:16:18 -0500 (Thu, 06 Nov 2025) EllapsedTime: 10.2 seconds RetCode: 0 Status: OK PackageFile: PhyloProfile_2.2.1.tgz PackageFileSize: 1.52 MiB