Package: PhosR Version: 1.20.0 Command: /home/biocbuild/R/R/bin/R CMD INSTALL PhosR StartedAt: 2025-11-13 21:25:43 -0000 (Thu, 13 Nov 2025) EndedAt: 2025-11-13 21:26:21 -0000 (Thu, 13 Nov 2025) EllapsedTime: 38.1 seconds RetCode: 0 Status: OK