Package: PhosR Version: 1.20.0 Command: /home/biocbuild/bbs-3.22-bioc/R/bin/R CMD check --install=check:PhosR.install-out.txt --library=/home/biocbuild/bbs-3.22-bioc/R/site-library --timings PhosR_1.20.0.tar.gz StartedAt: 2025-11-14 02:46:35 -0500 (Fri, 14 Nov 2025) EndedAt: 2025-11-14 02:55:01 -0500 (Fri, 14 Nov 2025) EllapsedTime: 506.4 seconds RetCode: 0 Status: OK CheckDir: PhosR.Rcheck Warnings: 0