Package: PhosR Version: 1.18.5 Command: /home/biocbuild/bbs-3.21-bioc/R/bin/R CMD INSTALL PhosR StartedAt: 2025-10-15 15:17:48 -0400 (Wed, 15 Oct 2025) EndedAt: 2025-10-15 15:18:18 -0400 (Wed, 15 Oct 2025) EllapsedTime: 29.7 seconds RetCode: 0 Status: OK