Package: PhosR Version: 1.18.5 Command: /home/biocbuild/bbs-3.21-bioc/R/bin/R CMD build --keep-empty-dirs --no-resave-data PhosR StartedAt: 2025-10-15 19:08:42 -0400 (Wed, 15 Oct 2025) EndedAt: 2025-10-15 19:11:49 -0400 (Wed, 15 Oct 2025) EllapsedTime: 187.2 seconds RetCode: 0 Status: OK PackageFile: PhosR_1.18.5.tar.gz PackageFileSize: 7.43 MiB