Package: PhosR Version: 1.20.0 Command: /Library/Frameworks/R.framework/Resources/bin/R CMD INSTALL PhosR StartedAt: 2025-11-03 15:24:50 -0500 (Mon, 03 Nov 2025) EndedAt: 2025-11-03 15:25:30 -0500 (Mon, 03 Nov 2025) EllapsedTime: 39.6 seconds RetCode: 0 Status: OK