Package: PhosR Version: 1.20.0 Command: /Library/Frameworks/R.framework/Resources/bin/R CMD build --keep-empty-dirs --no-resave-data PhosR StartedAt: 2025-11-03 18:14:56 -0500 (Mon, 03 Nov 2025) EndedAt: 2025-11-03 18:18:28 -0500 (Mon, 03 Nov 2025) EllapsedTime: 212.3 seconds RetCode: 0 Status: OK PackageFile: PhosR_1.20.0.tar.gz PackageFileSize: 7.955 MiB