Package: PhosR Version: 1.20.0 Command: rm -rf PhosR.buildbin-libdir && mkdir PhosR.buildbin-libdir && /Users/biocbuild/BBS/utils/build-universal.sh PhosR_1.20.0.tar.gz /Library/Frameworks/R.framework/Resources/bin/R PhosR.buildbin-libdir StartedAt: 2025-11-04 01:55:44 -0500 (Tue, 04 Nov 2025) EndedAt: 2025-11-04 01:56:29 -0500 (Tue, 04 Nov 2025) EllapsedTime: 44.9 seconds RetCode: 0 Status: OK PackageFile: PhosR_1.20.0.tgz PackageFileSize: 6.004 MiB