Package: PhosR Version: 1.18.5 Command: /home/biocbuild/R/R/bin/R CMD INSTALL PhosR StartedAt: 2025-09-25 20:32:16 -0000 (Thu, 25 Sep 2025) EndedAt: 2025-09-25 20:32:56 -0000 (Thu, 25 Sep 2025) EllapsedTime: 40.7 seconds RetCode: 0 Status: OK