Package: PhosR Version: 1.18.5 Command: /home/biocbuild/R/R/bin/R CMD build --keep-empty-dirs --no-resave-data PhosR StartedAt: 2025-09-26 04:51:21 -0000 (Fri, 26 Sep 2025) EndedAt: 2025-09-26 04:56:18 -0000 (Fri, 26 Sep 2025) EllapsedTime: 297.1 seconds RetCode: 0 Status: OK PackageFile: PhosR_1.18.5.tar.gz PackageFileSize: 7.378 MiB