Package: PhenoGeneRanker Version: 1.18.0 Command: /home/biocbuild/bbs-3.22-bioc/R/bin/R CMD build --keep-empty-dirs --no-resave-data --md5 PhenoGeneRanker StartedAt: 2025-11-20 20:06:16 -0500 (Thu, 20 Nov 2025) EndedAt: 2025-11-20 20:12:40 -0500 (Thu, 20 Nov 2025) EllapsedTime: 384.4 seconds RetCode: 0 Status: OK PackageFile: PhenoGeneRanker_1.18.0.tar.gz PackageFileSize: 28.66 KiB