Package: PhenStat Version: 2.46.0 Command: /Library/Frameworks/R.framework/Resources/bin/R CMD INSTALL PhenStat StartedAt: 2025-11-03 16:00:42 -0500 (Mon, 03 Nov 2025) EndedAt: 2025-11-03 16:00:43 -0500 (Mon, 03 Nov 2025) EllapsedTime: 0.3 seconds RetCode: 1 Status: ERROR