Package: PharmacoGx Version: 3.14.0 Command: /home/biocbuild/bbs-3.22-bioc/R/bin/R CMD check --install=check:PharmacoGx.install-out.txt --library=/home/biocbuild/bbs-3.22-bioc/R/site-library --timings PharmacoGx_3.14.0.tar.gz StartedAt: 2025-11-21 03:15:42 -0500 (Fri, 21 Nov 2025) EndedAt: 2025-11-21 03:22:28 -0500 (Fri, 21 Nov 2025) EllapsedTime: 405.4 seconds RetCode: 0 Status: OK CheckDir: PharmacoGx.Rcheck Warnings: 0