Package: PharmacoGx Version: 3.14.0 Command: /home/biocbuild/bbs-3.22-bioc/R/bin/R CMD build --keep-empty-dirs --no-resave-data --md5 PharmacoGx StartedAt: 2025-11-11 19:23:25 -0500 (Tue, 11 Nov 2025) EndedAt: 2025-11-11 19:24:46 -0500 (Tue, 11 Nov 2025) EllapsedTime: 81.1 seconds RetCode: 0 Status: OK PackageFile: PharmacoGx_3.14.0.tar.gz PackageFileSize: 4.492 MiB