Package: PharmacoGx Version: 3.14.0 Command: /Library/Frameworks/R.framework/Resources/bin/R CMD INSTALL PharmacoGx StartedAt: 2025-11-03 15:31:26 -0500 (Mon, 03 Nov 2025) EndedAt: 2025-11-03 15:32:26 -0500 (Mon, 03 Nov 2025) EllapsedTime: 60.1 seconds RetCode: 0 Status: OK