Package: PharmacoGx Version: 3.14.0 Command: rm -rf PharmacoGx.buildbin-libdir && mkdir PharmacoGx.buildbin-libdir && /Users/biocbuild/BBS/utils/build-universal.sh PharmacoGx_3.14.0.tar.gz /Library/Frameworks/R.framework/Resources/bin/R PharmacoGx.buildbin-libdir StartedAt: 2025-11-04 01:55:39 -0500 (Tue, 04 Nov 2025) EndedAt: 2025-11-04 01:56:45 -0500 (Tue, 04 Nov 2025) EllapsedTime: 65.8 seconds RetCode: 0 Status: OK PackageFile: PharmacoGx_3.14.0.tgz PackageFileSize: 3.928 MiB