Package: PharmacoGx Version: 3.12.2 Command: /home/biocbuild/R/R/bin/R CMD INSTALL PharmacoGx StartedAt: 2025-10-13 20:37:33 -0000 (Mon, 13 Oct 2025) EndedAt: 2025-10-13 20:38:37 -0000 (Mon, 13 Oct 2025) EllapsedTime: 64.0 seconds RetCode: 0 Status: OK