Package: PharmacoGx Version: 3.12.2 Command: /home/biocbuild/R/R/bin/R CMD build --keep-empty-dirs --no-resave-data PharmacoGx StartedAt: 2025-10-14 03:30:00 -0000 (Tue, 14 Oct 2025) EndedAt: 2025-10-14 03:31:56 -0000 (Tue, 14 Oct 2025) EllapsedTime: 116.1 seconds RetCode: 0 Status: OK PackageFile: PharmacoGx_3.12.2.tar.gz PackageFileSize: 4.539 MiB