Package: PharmacoGx Version: 3.12.0 Command: /Library/Frameworks/R.framework/Resources/bin/R CMD INSTALL PharmacoGx StartedAt: 2025-04-21 15:14:52 -0400 (Mon, 21 Apr 2025) EndedAt: 2025-04-21 15:15:10 -0400 (Mon, 21 Apr 2025) EllapsedTime: 18.0 seconds RetCode: 0 Status: OK