Package: PhIPData Version: 1.18.0 Command: /home/biocbuild/R/R/bin/R CMD build --keep-empty-dirs --no-resave-data PhIPData StartedAt: 2025-11-14 04:09:09 -0000 (Fri, 14 Nov 2025) EndedAt: 2025-11-14 04:10:04 -0000 (Fri, 14 Nov 2025) EllapsedTime: 55.0 seconds RetCode: 0 Status: OK PackageFile: PhIPData_1.18.0.tar.gz PackageFileSize: 846.3 KiB