Package: PhIPData Version: 1.18.0 Command: /home/biocbuild/bbs-3.22-bioc/R/bin/R CMD INSTALL PhIPData StartedAt: 2025-11-11 15:54:58 -0500 (Tue, 11 Nov 2025) EndedAt: 2025-11-11 15:55:28 -0500 (Tue, 11 Nov 2025) EllapsedTime: 29.8 seconds RetCode: 0 Status: OK