Package: PhIPData Version: 1.16.1 Command: /home/biocbuild/bbs-3.21-bioc/R/bin/R CMD build --keep-empty-dirs --no-resave-data PhIPData StartedAt: 2025-10-08 19:07:34 -0400 (Wed, 08 Oct 2025) EndedAt: 2025-10-08 19:08:17 -0400 (Wed, 08 Oct 2025) EllapsedTime: 43.0 seconds RetCode: 0 Status: OK PackageFile: PhIPData_1.16.1.tar.gz PackageFileSize: 820.8 KiB