Package: PhIPData Version: 1.16.1 Command: /Library/Frameworks/R.framework/Resources/bin/R CMD INSTALL PhIPData StartedAt: 2025-10-09 18:14:29 -0400 (Thu, 09 Oct 2025) EndedAt: 2025-10-09 18:15:03 -0400 (Thu, 09 Oct 2025) EllapsedTime: 34.3 seconds RetCode: 0 Status: OK