Package: PhIPData Version: 1.16.1 Command: /Library/Frameworks/R.framework/Resources/bin/R CMD build --keep-empty-dirs --no-resave-data PhIPData StartedAt: 2025-10-10 06:52:51 -0400 (Fri, 10 Oct 2025) EndedAt: 2025-10-10 06:53:46 -0400 (Fri, 10 Oct 2025) EllapsedTime: 55.2 seconds RetCode: 0 Status: OK PackageFile: PhIPData_1.16.1.tar.gz PackageFileSize: 820.9 KiB