Package: PhIPData Version: 1.16.1 Maintainer: Athena Chen MaintainerEmail: achen70 at jhu.edu git_url: https://git.bioconductor.org/packages/PhIPData git_branch: RELEASE_3_21 git_last_commit: c2bad37 git_last_commit_date: 2025-05-08 12:29:24 -0400 (Thu, 08 May 2025)