Package: PepsNMR Version: 1.28.0 Command: /home/biocbuild/bbs-3.22-bioc/R/bin/R CMD INSTALL PepsNMR StartedAt: 2025-11-11 15:14:48 -0500 (Tue, 11 Nov 2025) EndedAt: 2025-11-11 15:14:57 -0500 (Tue, 11 Nov 2025) EllapsedTime: 9.2 seconds RetCode: 0 Status: OK