Package: PepSetTest Version: 1.4.0 Command: /home/biocbuild/R/R/bin/R CMD build --keep-empty-dirs --no-resave-data PepSetTest StartedAt: 2025-11-14 04:06:33 -0000 (Fri, 14 Nov 2025) EndedAt: 2025-11-14 04:07:02 -0000 (Fri, 14 Nov 2025) EllapsedTime: 29.0 seconds RetCode: 0 Status: OK PackageFile: PepSetTest_1.4.0.tar.gz PackageFileSize: 275.1 KiB