Package: PepSetTest Version: 1.4.0 Command: /home/biocbuild/bbs-3.22-bioc/R/bin/R CMD check --install=check:PepSetTest.install-out.txt --library=/home/biocbuild/bbs-3.22-bioc/R/site-library --timings PepSetTest_1.4.0.tar.gz StartedAt: 2025-11-12 02:39:30 -0500 (Wed, 12 Nov 2025) EndedAt: 2025-11-12 02:40:27 -0500 (Wed, 12 Nov 2025) EllapsedTime: 57.1 seconds RetCode: 0 Status: OK CheckDir: PepSetTest.Rcheck Warnings: 0