Package: PepSetTest Version: 1.4.0 Command: /home/biocbuild/bbs-3.22-bioc/R/bin/R CMD build --keep-empty-dirs --no-resave-data --md5 PepSetTest StartedAt: 2025-11-13 19:21:24 -0500 (Thu, 13 Nov 2025) EndedAt: 2025-11-13 19:21:45 -0500 (Thu, 13 Nov 2025) EllapsedTime: 21.0 seconds RetCode: 0 Status: OK PackageFile: PepSetTest_1.4.0.tar.gz PackageFileSize: 250.1 KiB