Package: PepSetTest Version: 1.2.0 Command: /Library/Frameworks/R.framework/Resources/bin/R CMD INSTALL PepSetTest StartedAt: 2025-10-09 15:43:53 -0400 (Thu, 09 Oct 2025) EndedAt: 2025-10-09 15:43:57 -0400 (Thu, 09 Oct 2025) EllapsedTime: 4.7 seconds RetCode: 0 Status: OK