Package: PepSetTest Version: 1.2.0 Command: /Library/Frameworks/R.framework/Resources/bin/R CMD build --keep-empty-dirs --no-resave-data PepSetTest StartedAt: 2025-10-09 21:30:34 -0400 (Thu, 09 Oct 2025) EndedAt: 2025-10-09 21:31:30 -0400 (Thu, 09 Oct 2025) EllapsedTime: 56.3 seconds RetCode: 0 Status: OK PackageFile: PepSetTest_1.2.0.tar.gz PackageFileSize: 248.3 KiB