Package: PeacoQC Version: 1.20.0 Command: /Library/Frameworks/R.framework/Resources/bin/R CMD INSTALL PeacoQC StartedAt: 2025-11-10 15:08:56 -0500 (Mon, 10 Nov 2025) EndedAt: 2025-11-10 15:09:03 -0500 (Mon, 10 Nov 2025) EllapsedTime: 7.1 seconds RetCode: 0 Status: OK