Package: PeacoQC Version: 1.20.0 Command: /Library/Frameworks/R.framework/Resources/bin/R CMD build --keep-empty-dirs --no-resave-data PeacoQC StartedAt: 2025-11-10 17:19:51 -0500 (Mon, 10 Nov 2025) EndedAt: 2025-11-10 17:20:16 -0500 (Mon, 10 Nov 2025) EllapsedTime: 25.3 seconds RetCode: 0 Status: OK PackageFile: PeacoQC_1.20.0.tar.gz PackageFileSize: 1.52 MiB