Package: PeacoQC Version: 1.20.0 Command: rm -rf PeacoQC.buildbin-libdir && mkdir PeacoQC.buildbin-libdir && /Users/biocbuild/BBS/utils/build-universal.sh PeacoQC_1.20.0.tar.gz /Library/Frameworks/R.framework/Resources/bin/R PeacoQC.buildbin-libdir StartedAt: 2025-11-10 23:30:52 -0500 (Mon, 10 Nov 2025) EndedAt: 2025-11-10 23:30:59 -0500 (Mon, 10 Nov 2025) EllapsedTime: 7.2 seconds RetCode: 0 Status: OK PackageFile: PeacoQC_1.20.0.tgz PackageFileSize: 1.599 MiB