Package: PathoStat Version: 1.36.0 Command: /home/biocbuild/bbs-3.22-bioc/R/bin/R CMD INSTALL PathoStat StartedAt: 2025-11-11 15:25:57 -0500 (Tue, 11 Nov 2025) EndedAt: 2025-11-11 15:26:33 -0500 (Tue, 11 Nov 2025) EllapsedTime: 35.7 seconds RetCode: 0 Status: OK