Package: PathoStat Version: 1.34.0 Command: /home/biocbuild/bbs-3.21-bioc/R/bin/R CMD build --keep-empty-dirs --no-resave-data PathoStat StartedAt: 2025-10-05 19:05:33 -0400 (Sun, 05 Oct 2025) EndedAt: 2025-10-05 19:06:12 -0400 (Sun, 05 Oct 2025) EllapsedTime: 39.0 seconds RetCode: 0 Status: OK PackageFile: PathoStat_1.34.0.tar.gz PackageFileSize: 947.9 KiB