Package: PathoStat Version: 1.34.0 Command: /home/biocbuild/R/R/bin/R CMD INSTALL PathoStat StartedAt: 2025-09-25 20:34:28 -0000 (Thu, 25 Sep 2025) EndedAt: 2025-09-25 20:35:17 -0000 (Thu, 25 Sep 2025) EllapsedTime: 49.5 seconds RetCode: 0 Status: OK