Package: PathoStat Version: 1.34.0 Command: /Library/Frameworks/R.framework/Resources/bin/R CMD INSTALL PathoStat StartedAt: 2025-10-06 16:23:09 -0400 (Mon, 06 Oct 2025) EndedAt: 2025-10-06 16:23:53 -0400 (Mon, 06 Oct 2025) EllapsedTime: 44.0 seconds RetCode: 0 Status: OK