Package: PathNet Version: 1.50.0 Command: /home/biocbuild/R/R/bin/R CMD INSTALL PathNet StartedAt: 2025-11-10 21:02:29 -0000 (Mon, 10 Nov 2025) EndedAt: 2025-11-10 21:02:42 -0000 (Mon, 10 Nov 2025) EllapsedTime: 13.6 seconds RetCode: 0 Status: OK