Package: PathNet Version: 1.50.0 Command: /home/biocbuild/R/R/bin/R CMD build --keep-empty-dirs --no-resave-data PathNet StartedAt: 2025-11-11 04:00:12 -0000 (Tue, 11 Nov 2025) EndedAt: 2025-11-11 04:01:22 -0000 (Tue, 11 Nov 2025) EllapsedTime: 70.0 seconds RetCode: 0 Status: OK PackageFile: PathNet_1.50.0.tar.gz PackageFileSize: 813.2 KiB