Package: PathNet Version: 1.50.0 Command: /home/biocbuild/bbs-3.22-bioc/R/bin/R CMD INSTALL PathNet StartedAt: 2025-11-13 15:02:17 -0500 (Thu, 13 Nov 2025) EndedAt: 2025-11-13 15:02:23 -0500 (Thu, 13 Nov 2025) EllapsedTime: 5.7 seconds RetCode: 0 Status: OK