Package: PathNet Version: 1.50.0 Command: /home/biocbuild/bbs-3.22-bioc/R/bin/R CMD check --install=check:PathNet.install-out.txt --library=/home/biocbuild/bbs-3.22-bioc/R/site-library --timings PathNet_1.50.0.tar.gz StartedAt: 2025-11-12 02:34:19 -0500 (Wed, 12 Nov 2025) EndedAt: 2025-11-12 02:36:32 -0500 (Wed, 12 Nov 2025) EllapsedTime: 133.2 seconds RetCode: 0 Status: OK CheckDir: PathNet.Rcheck Warnings: 0