Package: PathNet Version: 1.50.0 Command: /home/biocbuild/bbs-3.22-bioc/R/bin/R CMD build --keep-empty-dirs --no-resave-data --md5 PathNet StartedAt: 2025-11-13 19:18:41 -0500 (Thu, 13 Nov 2025) EndedAt: 2025-11-13 19:19:39 -0500 (Thu, 13 Nov 2025) EllapsedTime: 58.0 seconds RetCode: 0 Status: OK PackageFile: PathNet_1.50.0.tar.gz PackageFileSize: 824.7 KiB