Package: PathNet Version: 1.48.0 Command: /Library/Frameworks/R.framework/Resources/bin/R CMD INSTALL PathNet StartedAt: 2025-10-06 15:03:15 -0400 (Mon, 06 Oct 2025) EndedAt: 2025-10-06 15:03:28 -0400 (Mon, 06 Oct 2025) EllapsedTime: 12.6 seconds RetCode: 0 Status: OK